BEGIN:VCALENDAR
VERSION:2.0
PRODID:-//Facilities Management Training Academy - ECPv6.15.13//NONSGML v1.0//EN
CALSCALE:GREGORIAN
METHOD:PUBLISH
X-ORIGINAL-URL:https://fmta.in
X-WR-CALDESC:Events for Facilities Management Training Academy
REFRESH-INTERVAL;VALUE=DURATION:PT1H
X-Robots-Tag:noindex
X-PUBLISHED-TTL:PT1H
BEGIN:VTIMEZONE
TZID:UTC
BEGIN:STANDARD
TZOFFSETFROM:+0000
TZOFFSETTO:+0000
TZNAME:UTC
DTSTART:20220101T000000
END:STANDARD
END:VTIMEZONE
BEGIN:VEVENT
DTSTART;TZID=UTC:20231220T190000
DTEND;TZID=UTC:20231220T210000
DTSTAMP:20260422T085138
CREATED:20230724T112041Z
LAST-MODIFIED:20230724T112041Z
UID:1165-1703098800-1703106000@fmta.in
SUMMARY:Certified Facilities Manager
DESCRIPTION:
URL:https://fmta.in/event/certified-facilities-manager-10/
CATEGORIES:Main
END:VEVENT
BEGIN:VEVENT
DTSTART;TZID=UTC:20231218T190000
DTEND;TZID=UTC:20231218T210000
DTSTAMP:20260422T085138
CREATED:20230724T112006Z
LAST-MODIFIED:20230724T112006Z
UID:1163-1702926000-1702933200@fmta.in
SUMMARY:Certified Facilities Manager
DESCRIPTION:
URL:https://fmta.in/event/certified-facilities-manager-9/
CATEGORIES:Main
END:VEVENT
BEGIN:VEVENT
DTSTART;TZID=UTC:20231212T190000
DTEND;TZID=UTC:20231212T210000
DTSTAMP:20260422T085138
CREATED:20230724T111239Z
LAST-MODIFIED:20230724T111239Z
UID:1149-1702407600-1702414800@fmta.in
SUMMARY:Facilities Management Professional
DESCRIPTION:
URL:https://fmta.in/event/facilities-management-professional-10/
CATEGORIES:Main
END:VEVENT
BEGIN:VEVENT
DTSTART;TZID=UTC:20231210T190000
DTEND;TZID=UTC:20231210T210000
DTSTAMP:20260422T085138
CREATED:20230724T111159Z
LAST-MODIFIED:20230724T111159Z
UID:1147-1702234800-1702242000@fmta.in
SUMMARY:Facilities Management Professional
DESCRIPTION:
URL:https://fmta.in/event/facilities-management-professional-9/
CATEGORIES:Main
END:VEVENT
BEGIN:VEVENT
DTSTART;TZID=UTC:20231207T190000
DTEND;TZID=UTC:20231207T210000
DTSTAMP:20260422T085138
CREATED:20230724T110347Z
LAST-MODIFIED:20230724T110347Z
UID:1133-1701975600-1701982800@fmta.in
SUMMARY:Sustainability facilities professional
DESCRIPTION:
URL:https://fmta.in/event/sustainability-facilities-professional-5/
CATEGORIES:Main
END:VEVENT
BEGIN:VEVENT
DTSTART;TZID=UTC:20231120T190000
DTEND;TZID=UTC:20231120T210000
DTSTAMP:20260422T085138
CREATED:20230724T111901Z
LAST-MODIFIED:20230724T111901Z
UID:1161-1700506800-1700514000@fmta.in
SUMMARY:Certified Facilities Manager
DESCRIPTION:
URL:https://fmta.in/event/certified-facilities-manager-8/
CATEGORIES:Main
END:VEVENT
BEGIN:VEVENT
DTSTART;TZID=UTC:20231115T190000
DTEND;TZID=UTC:20231115T210000
DTSTAMP:20260422T085138
CREATED:20230724T111829Z
LAST-MODIFIED:20230724T111829Z
UID:1159-1700074800-1700082000@fmta.in
SUMMARY:Certified Facilities Manager
DESCRIPTION:
URL:https://fmta.in/event/certified-facilities-manager-7/
CATEGORIES:Main
END:VEVENT
BEGIN:VEVENT
DTSTART;TZID=UTC:20231114T190000
DTEND;TZID=UTC:20231114T210000
DTSTAMP:20260422T085138
CREATED:20230724T111051Z
LAST-MODIFIED:20230724T111051Z
UID:1145-1699988400-1699995600@fmta.in
SUMMARY:Facilities Management Professional
DESCRIPTION:
URL:https://fmta.in/event/facilities-management-professional-8/
CATEGORIES:Main
END:VEVENT
BEGIN:VEVENT
DTSTART;TZID=UTC:20231112T190000
DTEND;TZID=UTC:20231112T210000
DTSTAMP:20260422T085138
CREATED:20230724T111015Z
LAST-MODIFIED:20230724T111015Z
UID:1143-1699815600-1699822800@fmta.in
SUMMARY:Facilities Management Professional
DESCRIPTION:
URL:https://fmta.in/event/facilities-management-professional-7/
CATEGORIES:Main
END:VEVENT
BEGIN:VEVENT
DTSTART;TZID=UTC:20231102T190000
DTEND;TZID=UTC:20231102T210000
DTSTAMP:20260422T085138
CREATED:20230724T110305Z
LAST-MODIFIED:20230724T110305Z
UID:1131-1698951600-1698958800@fmta.in
SUMMARY:Sustainability facilities professional
DESCRIPTION:
URL:https://fmta.in/event/sustainability-facilities-professional-4/
CATEGORIES:Main
END:VEVENT
BEGIN:VEVENT
DTSTART;TZID=UTC:20231018T080000
DTEND;TZID=UTC:20231018T170000
DTSTAMP:20260422T085138
CREATED:20230724T111637Z
LAST-MODIFIED:20230724T111637Z
UID:1157-1697616000-1697648400@fmta.in
SUMMARY:Certified Facilities Manager
DESCRIPTION:
URL:https://fmta.in/event/certified-facilities-manager-6/
CATEGORIES:Main
END:VEVENT
BEGIN:VEVENT
DTSTART;TZID=UTC:20231016T190000
DTEND;TZID=UTC:20231016T210000
DTSTAMP:20260422T085138
CREATED:20230724T111611Z
LAST-MODIFIED:20230724T111611Z
UID:1155-1697482800-1697490000@fmta.in
SUMMARY:Certified Facilities Manager
DESCRIPTION:
URL:https://fmta.in/event/certified-facilities-manager-5/
CATEGORIES:Main
END:VEVENT
BEGIN:VEVENT
DTSTART;TZID=UTC:20231010T190000
DTEND;TZID=UTC:20231010T210000
DTSTAMP:20260422T085138
CREATED:20230724T110926Z
LAST-MODIFIED:20230724T110926Z
UID:1141-1696964400-1696971600@fmta.in
SUMMARY:Facilities Management Professional
DESCRIPTION:
URL:https://fmta.in/event/facilities-management-professional-6/
CATEGORIES:Main
END:VEVENT
BEGIN:VEVENT
DTSTART;TZID=UTC:20231008T190000
DTEND;TZID=UTC:20231008T210000
DTSTAMP:20260422T085138
CREATED:20230724T110855Z
LAST-MODIFIED:20230724T110855Z
UID:1139-1696791600-1696798800@fmta.in
SUMMARY:Facilities Management Professional
DESCRIPTION:
URL:https://fmta.in/event/facilities-management-professional-5/
CATEGORIES:Main
END:VEVENT
BEGIN:VEVENT
DTSTART;TZID=UTC:20231005T190000
DTEND;TZID=UTC:20231005T210000
DTSTAMP:20260422T085138
CREATED:20230724T110205Z
LAST-MODIFIED:20230724T110205Z
UID:1129-1696532400-1696539600@fmta.in
SUMMARY:Sustainability facilities professional
DESCRIPTION:
URL:https://fmta.in/event/sustainability-facilities-professional-3/
CATEGORIES:Main
END:VEVENT
BEGIN:VEVENT
DTSTART;TZID=UTC:20230920T190000
DTEND;TZID=UTC:20230920T210000
DTSTAMP:20260422T085138
CREATED:20230724T111513Z
LAST-MODIFIED:20230724T111513Z
UID:1153-1695236400-1695243600@fmta.in
SUMMARY:Certified Facilities Manager
DESCRIPTION:
URL:https://fmta.in/event/certified-facilities-manager-4/
CATEGORIES:Main
END:VEVENT
BEGIN:VEVENT
DTSTART;TZID=UTC:20230918T190000
DTEND;TZID=UTC:20230918T210000
DTSTAMP:20260422T085138
CREATED:20230724T111442Z
LAST-MODIFIED:20230724T111442Z
UID:1151-1695063600-1695070800@fmta.in
SUMMARY:Certified Facilities Manager
DESCRIPTION:
URL:https://fmta.in/event/certified-facilities-manager-3/
CATEGORIES:Main
END:VEVENT
BEGIN:VEVENT
DTSTART;TZID=UTC:20230912T190000
DTEND;TZID=UTC:20230912T210000
DTSTAMP:20260422T085138
CREATED:20230724T110736Z
LAST-MODIFIED:20230724T110736Z
UID:1137-1694545200-1694552400@fmta.in
SUMMARY:Facilities Management Professional
DESCRIPTION:
URL:https://fmta.in/event/facilities-management-professional-4/
CATEGORIES:Main
END:VEVENT
BEGIN:VEVENT
DTSTART;TZID=UTC:20230910T190000
DTEND;TZID=UTC:20230910T210000
DTSTAMP:20260422T085138
CREATED:20230724T110703Z
LAST-MODIFIED:20230724T110703Z
UID:1135-1694372400-1694379600@fmta.in
SUMMARY:Facilities Management Professional
DESCRIPTION:
URL:https://fmta.in/event/facilities-management-professional-3/
CATEGORIES:Main
END:VEVENT
BEGIN:VEVENT
DTSTART;TZID=UTC:20230907T190000
DTEND;TZID=UTC:20230907T210000
DTSTAMP:20260422T085138
CREATED:20230724T110039Z
LAST-MODIFIED:20230724T110052Z
UID:1127-1694113200-1694120400@fmta.in
SUMMARY:Sustainability facilities professional
DESCRIPTION:
URL:https://fmta.in/event/sustainability-facilities-professional-2/
CATEGORIES:Main
END:VEVENT
BEGIN:VEVENT
DTSTART;TZID=UTC:20230823T190000
DTEND;TZID=UTC:20230823T210000
DTSTAMP:20260422T085138
CREATED:20230724T104017Z
LAST-MODIFIED:20230724T104101Z
UID:1123-1692817200-1692824400@fmta.in
SUMMARY:Certified Facilities Manager
DESCRIPTION:
URL:https://fmta.in/event/certified-facilities-manager-2/
CATEGORIES:Main
END:VEVENT
BEGIN:VEVENT
DTSTART;TZID=UTC:20230821T190000
DTEND;TZID=UTC:20230821T210000
DTSTAMP:20260422T085138
CREATED:20230721T050345Z
LAST-MODIFIED:20230724T103825Z
UID:1095-1692644400-1692651600@fmta.in
SUMMARY:Certified Facilities Manager
DESCRIPTION:
URL:https://fmta.in/event/certified-facilities-manager/
CATEGORIES:Main
END:VEVENT
BEGIN:VEVENT
DTSTART;TZID=UTC:20230813T190000
DTEND;TZID=UTC:20230813T210000
DTSTAMP:20260422T085138
CREATED:20230724T104732Z
LAST-MODIFIED:20230724T104732Z
UID:1125-1691953200-1691960400@fmta.in
SUMMARY:Facilities Management Professional
DESCRIPTION:
URL:https://fmta.in/event/facilities-management-professional-2/
CATEGORIES:Main
END:VEVENT
BEGIN:VEVENT
DTSTART;TZID=UTC:20230808T190000
DTEND;TZID=UTC:20230808T210000
DTSTAMP:20260422T085138
CREATED:20230721T051010Z
LAST-MODIFIED:20230724T104651Z
UID:1100-1691521200-1691528400@fmta.in
SUMMARY:Facilities Management Professional
DESCRIPTION:
URL:https://fmta.in/event/facilities-management-professional/
CATEGORIES:Main
END:VEVENT
BEGIN:VEVENT
DTSTART;TZID=UTC:20230803T190000
DTEND;TZID=UTC:20230803T210000
DTSTAMP:20260422T085138
CREATED:20230721T050949Z
LAST-MODIFIED:20230724T104400Z
UID:1098-1691089200-1691096400@fmta.in
SUMMARY:Sustainability Facilities Professional
DESCRIPTION:
URL:https://fmta.in/event/sustainability-facilities-professional/
CATEGORIES:Main
END:VEVENT
END:VCALENDAR